BEGIN:VCALENDAR
VERSION:2.0
PRODID:-//Ziber2013/
CALSCALE:GREGORIAN
BEGIN:VEVENT
UID:260386@https://www.demarinx.nl
DTSTART:20260513T083000
DTEND:20260513T090000
SUMMARY:Luizen pluizen
DESCRIPTION:<p>Vandaag komen de hulpouders weer langs in de groepen voor de periodieke controle op hoofdluis.</p><p>Om de controle vlot en zorgvuldig te laten verlopen\, vragen wij u vriendelijk om uw kind vandaag geen vlechten of gel in het haar te geven.</p><p>Lijkt het u leuk om ook een handje te helpen bij de controle? U bent van harte welkom om half 9 in de teamkamer. Alvast bedankt voor de medewerking!</p>
LOCATION:De Marinx\, Zwarteweg 13 b\, 1735 GK 't Veld
ATTACH;FMTTYPE=image/jpeg:/content/monsterGallery/lice.png?width=1600&height=1200
SEQUENCE:0
DTSTAMP:20260422T114637
END:VEVENT
END:VCALENDAR
