BEGIN:VCALENDAR
VERSION:2.0
PRODID:-//Ziber2013/
CALSCALE:GREGORIAN
BEGIN:VEVENT
UID:253295@https://www.demarinx.nl
DTSTART:20260520T120000
DTEND:20260520T160000
SUMMARY:Schoolmaatschappelijkwerk
DESCRIPTION:<p>Elke woensdag is Jessie Verblaauw in de school aanwezig\, afwisselend in de ochtend en de middag. Zie de agenda voor de tijden. Als u vragen heeft omtrent de ontwikkeling en/of welbevinden van uw kind\, dan kunt u telefonisch of per mail een afspraak maken en vrijblijvend advies vragen. Jessie zit in de spreekkamer naast de gymzaal. U kunt via de ingang van het dorpshuis de school binnenlopen en dan rechtdoor de trap op. </p><p>e-mail: jessie.verblaauw@wijkteam-hollandskroon.nl</p><p>telefoon: 06-16191144</p>
LOCATION:De Marinx\, Zwarteweg 13 b\, 1735 GK 't Veld
ATTACH;FMTTYPE=image/jpeg:/content/24661/agenda/clnt/253295_org.png?width=1600&height=1200
SEQUENCE:0
DTSTAMP:20260420T134330
END:VEVENT
END:VCALENDAR
