BEGIN:VCALENDAR
VERSION:2.0
PRODID:-//Ziber2013/
CALSCALE:GREGORIAN
BEGIN:VEVENT
UID:243182@https://www.demarinx.nl
DTSTART:20260519T190000
DTEND:20260519T210000
SUMMARY:Medezeggenschapsraad en Ouderraadsvergadering
DESCRIPTION:<p>Vanavond is er MR en OR vergadering.</p><p> </p><p>V.w.b.\nDe <b>medezeggenschapsraad</b> bestaat uit drie ouders en drie personeelsleden. Deze vergaderingen zijn openbaar.\n\nDe MR van De Marinx volgt op een betrokken wijze alle ontwikkelingen en schoolse beleidszaken. Wij denken mee\, geven advies\, zetten eventueel kritische kanttekeningen en beslissen mee waar nodig en vereist. \n\nAangezien het onderwijs continue aan verandering onderhevig is\, zijn er naast de standaard onderwerpen altijd weer nieuwe onderwerpen en aandachtspunten voor de MR. Natuurlijk volgt de MR ook kritisch de actuele ontwikkelingen op de Marinx. Welke andere zaken spelen er op de Marinx en hoe wordt hiermee omgegaan?\n\nmr.demarinx@sarkon.nl</p><p> </p><p> </p><p>V.w.b.</p><p>De <b>ouderraad</b> agenda bestaat altijd uit: \n- Notulen vorig overleg vaststellen\n- Lopende zaken binnen school\n- Voortgang van werkgroepen\n- Rondvraag</p><p>Daarnaast worden er nog losse vragen gesteld en besproken.</p>
LOCATION:RKBS De Marinx\, Zwarteweg 13 b\, 1735 GK ’t Veld
ATTACH;FMTTYPE=image/jpeg:/content/monsterGallery/parentcouncil.png?width=1600&height=1200
SEQUENCE:0
DTSTAMP:20260420T133220
END:VEVENT
END:VCALENDAR
