BEGIN:VCALENDAR
VERSION:2.0
PRODID:-//Ziber2013/
CALSCALE:GREGORIAN
BEGIN:VEVENT
UID:235600@https://www.demarinx.nl
DTSTART:20260506T083000
DTEND:20260506T090000
SUMMARY:Luizencontrole
DESCRIPTION:<p>Vandaag om 8.30 uur komen de vrijwillige ouders langs in de groepen om de kinderen te controleren op hoofdluis. </p><p>Wilt u er rekening mee houden dat de kinderen geen vlechten en gel in het haar hebben.</p><p> </p><p>Als u ook mee wilt helpen met de controle\, dan kunt u zich om half 9 melden in de teamkamer.</p>
LOCATION:De Marinx\, Zwarteweg 13 b\, 1735 GK 't Veld
ATTACH;FMTTYPE=image/jpeg:/content/monsterGallery/lice.png?width=1600&height=1200
SEQUENCE:0
DTSTAMP:20260423T102519
END:VEVENT
END:VCALENDAR
